Package: RNAAgeCalc Version: 1.19.0 Command: E:\biocbuild\bbs-3.21-bioc\R\bin\R.exe CMD INSTALL RNAAgeCalc StartedAt: 2025-02-09 16:50:58 -0500 (Sun, 09 Feb 2025) EndedAt: 2025-02-09 16:51:56 -0500 (Sun, 09 Feb 2025) EllapsedTime: 57.7 seconds RetCode: 0 Status: OK