Package: RNAdecay Version: 1.27.0 Command: /Library/Frameworks/R.framework/Resources/bin/R CMD check --install=check:RNAdecay.install-out.txt --library=/Library/Frameworks/R.framework/Resources/library --no-vignettes --timings RNAdecay_1.27.0.tar.gz StartedAt: 2025-02-03 21:37:20 -0500 (Mon, 03 Feb 2025) EndedAt: 2025-02-03 21:37:34 -0500 (Mon, 03 Feb 2025) EllapsedTime: 14.2 seconds RetCode: 0 Status: OK CheckDir: RNAdecay.Rcheck Warnings: 0