Package: RNAdecay Version: 1.27.0 Command: /home/biocbuild/R/R/bin/R CMD build --keep-empty-dirs --no-resave-data RNAdecay StartedAt: 2025-01-29 01:46:02 -0000 (Wed, 29 Jan 2025) EndedAt: 2025-01-29 02:02:16 -0000 (Wed, 29 Jan 2025) EllapsedTime: 974.9 seconds RetCode: 0 Status: OK PackageFile: RNAdecay_1.27.0.tar.gz PackageFileSize: 2.708 MiB