Package: RNAdecay Version: 1.27.0 Command: /home/biocbuild/R/R/bin/R CMD check --install=check:RNAdecay.install-out.txt --library=/home/biocbuild/R/R/site-library --no-vignettes --timings RNAdecay_1.27.0.tar.gz StartedAt: 2025-01-28 14:36:08 -0000 (Tue, 28 Jan 2025) EndedAt: 2025-01-28 14:36:41 -0000 (Tue, 28 Jan 2025) EllapsedTime: 33.0 seconds RetCode: 0 Status: WARNINGS CheckDir: RNAdecay.Rcheck Warnings: 1