Package: RNAdecay Version: 1.27.0 Command: rm -rf RNAdecay.buildbin-libdir && mkdir RNAdecay.buildbin-libdir && /Users/biocbuild/BBS/utils/build-universal.sh RNAdecay_1.27.0.tar.gz /Library/Frameworks/R.framework/Resources/bin/R RNAdecay.buildbin-libdir StartedAt: 2025-02-04 00:52:39 -0500 (Tue, 04 Feb 2025) EndedAt: 2025-02-04 01:00:57 -0500 (Tue, 04 Feb 2025) EllapsedTime: 498.1 seconds RetCode: 0 Status: OK PackageFile: RNAdecay_1.27.0.tgz PackageFileSize: 5.918 MiB