Package: RNAdecay Version: 1.27.0 Command: /Library/Frameworks/R.framework/Resources/bin/R CMD build --keep-empty-dirs --no-resave-data RNAdecay StartedAt: 2025-02-09 18:11:47 -0500 (Sun, 09 Feb 2025) EndedAt: 2025-02-09 18:22:48 -0500 (Sun, 09 Feb 2025) EllapsedTime: 661.3 seconds RetCode: 0 Status: OK PackageFile: RNAdecay_1.27.0.tar.gz PackageFileSize: 2.707 MiB