Package: RNAdecay Version: 1.27.0 Command: /home/biocbuild/bbs-3.21-bioc/R/bin/R CMD build --keep-empty-dirs --no-resave-data RNAdecay StartedAt: 2025-02-09 18:57:48 -0500 (Sun, 09 Feb 2025) EndedAt: 2025-02-09 19:06:33 -0500 (Sun, 09 Feb 2025) EllapsedTime: 525.8 seconds RetCode: 0 Status: OK PackageFile: RNAdecay_1.27.0.tar.gz PackageFileSize: 2.707 MiB