Package: RNAdecay Version: 1.27.0 Command: /home/biocbuild/bbs-3.21-bioc/R/bin/R CMD check --install=check:RNAdecay.install-out.txt --library=/home/biocbuild/bbs-3.21-bioc/R/site-library --timings RNAdecay_1.27.0.tar.gz StartedAt: 2025-02-10 01:58:45 -0500 (Mon, 10 Feb 2025) EndedAt: 2025-02-10 02:01:05 -0500 (Mon, 10 Feb 2025) EllapsedTime: 140.3 seconds RetCode: 0 Status: OK CheckDir: RNAdecay.Rcheck Warnings: 0