Package: RNAdecay Version: 1.27.0 Command: /home/biocbuild/bbs-3.21-bioc/R/bin/R CMD INSTALL RNAdecay StartedAt: 2025-02-09 15:08:32 -0500 (Sun, 09 Feb 2025) EndedAt: 2025-02-09 15:15:59 -0500 (Sun, 09 Feb 2025) EllapsedTime: 446.2 seconds RetCode: 0 Status: OK