Package: RNAdecay Version: 1.27.0 Command: rm -rf RNAdecay.buildbin-libdir && mkdir RNAdecay.buildbin-libdir && E:\biocbuild\bbs-3.21-bioc\R\bin\R.exe CMD INSTALL --build --library=RNAdecay.buildbin-libdir RNAdecay_1.27.0.tar.gz StartedAt: 2025-02-10 08:34:25 -0500 (Mon, 10 Feb 2025) EndedAt: 2025-02-10 08:34:50 -0500 (Mon, 10 Feb 2025) EllapsedTime: 24.4 seconds RetCode: 0 Status: OK PackageFile: RNAdecay_1.27.0.zip PackageFileSize: 7.226 MiB