Package: RNAdecay Version: 1.27.0 Command: chmod a+r RNAdecay -R && E:\biocbuild\bbs-3.21-bioc\R\bin\R.exe CMD build --keep-empty-dirs --no-resave-data RNAdecay StartedAt: 2025-02-09 21:14:09 -0500 (Sun, 09 Feb 2025) EndedAt: 2025-02-09 21:17:58 -0500 (Sun, 09 Feb 2025) EllapsedTime: 228.6 seconds RetCode: 0 Status: OK PackageFile: RNAdecay_1.27.0.tar.gz PackageFileSize: 7.192 MiB