Package: RNAdecay Version: 1.27.0 Command: E:\biocbuild\bbs-3.21-bioc\R\bin\R.exe CMD INSTALL RNAdecay StartedAt: 2025-02-09 15:31:30 -0500 (Sun, 09 Feb 2025) EndedAt: 2025-02-09 15:40:01 -0500 (Sun, 09 Feb 2025) EllapsedTime: 510.6 seconds RetCode: 0 Status: OK