Package: RNAmodR.AlkAnilineSeq Version: 1.21.0 Command: rm -rf RNAmodR.AlkAnilineSeq.buildbin-libdir && mkdir RNAmodR.AlkAnilineSeq.buildbin-libdir && /Users/biocbuild/BBS/utils/build-universal.sh RNAmodR.AlkAnilineSeq_1.21.0.tar.gz /Library/Frameworks/R.framework/Resources/bin/R RNAmodR.AlkAnilineSeq.buildbin-libdir StartedAt: 2025-02-09 22:28:10 -0500 (Sun, 09 Feb 2025) EndedAt: 2025-02-09 22:28:35 -0500 (Sun, 09 Feb 2025) EllapsedTime: 24.4 seconds RetCode: 0 Status: OK PackageFile: RNAmodR.AlkAnilineSeq_1.21.0.tgz PackageFileSize: 1.11 MiB