Package: RNAmodR.AlkAnilineSeq Version: 1.21.0 Command: /Library/Frameworks/R.framework/Resources/bin/R CMD build --keep-empty-dirs --no-resave-data RNAmodR.AlkAnilineSeq StartedAt: 2025-02-09 18:12:01 -0500 (Sun, 09 Feb 2025) EndedAt: 2025-02-09 18:14:34 -0500 (Sun, 09 Feb 2025) EllapsedTime: 153.3 seconds RetCode: 0 Status: OK PackageFile: RNAmodR.AlkAnilineSeq_1.21.0.tar.gz PackageFileSize: 1.04 MiB