Package: RNAmodR.AlkAnilineSeq Version: 1.21.0 Command: /home/biocbuild/bbs-3.21-bioc/R/bin/R CMD build --keep-empty-dirs --no-resave-data RNAmodR.AlkAnilineSeq StartedAt: 2025-02-09 18:58:14 -0500 (Sun, 09 Feb 2025) EndedAt: 2025-02-09 19:00:25 -0500 (Sun, 09 Feb 2025) EllapsedTime: 131.1 seconds RetCode: 0 Status: OK PackageFile: RNAmodR.AlkAnilineSeq_1.21.0.tar.gz PackageFileSize: 1.05 MiB