Package: RNAmodR.AlkAnilineSeq Version: 1.21.0 Command: rm -rf RNAmodR.AlkAnilineSeq.buildbin-libdir && mkdir RNAmodR.AlkAnilineSeq.buildbin-libdir && E:\biocbuild\bbs-3.21-bioc\R\bin\R.exe CMD INSTALL --build --library=RNAmodR.AlkAnilineSeq.buildbin-libdir RNAmodR.AlkAnilineSeq_1.21.0.tar.gz StartedAt: 2025-02-05 08:45:35 -0500 (Wed, 05 Feb 2025) EndedAt: 2025-02-05 08:48:43 -0500 (Wed, 05 Feb 2025) EllapsedTime: 188.1 seconds RetCode: 0 Status: OK PackageFile: RNAmodR.AlkAnilineSeq_1.21.0.zip PackageFileSize: 981.8 KiB