Package: RNAmodR.AlkAnilineSeq Version: 1.21.0 Command: E:\biocbuild\bbs-3.21-bioc\R\bin\R.exe CMD INSTALL RNAmodR.AlkAnilineSeq StartedAt: 2025-02-04 16:15:43 -0500 (Tue, 04 Feb 2025) EndedAt: 2025-02-04 16:17:23 -0500 (Tue, 04 Feb 2025) EllapsedTime: 100.1 seconds RetCode: 0 Status: OK