Package: RNAsense Version: 1.21.0 Command: /Library/Frameworks/R.framework/Resources/bin/R CMD build --keep-empty-dirs --no-resave-data RNAsense StartedAt: 2025-02-12 17:26:18 -0500 (Wed, 12 Feb 2025) EndedAt: 2025-02-12 17:28:02 -0500 (Wed, 12 Feb 2025) EllapsedTime: 103.1 seconds RetCode: 0 Status: OK PackageFile: RNAsense_1.21.0.tar.gz PackageFileSize: 911.4 KiB