Package: RNAsense Version: 1.21.0 Command: /home/biocbuild/R/R/bin/R CMD INSTALL RNAsense StartedAt: 2025-01-29 19:43:24 -0000 (Wed, 29 Jan 2025) EndedAt: 2025-01-29 19:43:55 -0000 (Wed, 29 Jan 2025) EllapsedTime: 31.0 seconds RetCode: 0 Status: OK