Package: RNAsense Version: 1.21.0 Command: /Library/Frameworks/R.framework/Resources/bin/R CMD build --keep-empty-dirs --no-resave-data RNAsense StartedAt: 2025-02-09 18:12:21 -0500 (Sun, 09 Feb 2025) EndedAt: 2025-02-09 18:17:39 -0500 (Sun, 09 Feb 2025) EllapsedTime: 318.0 seconds RetCode: 0 Status: OK PackageFile: RNAsense_1.21.0.tar.gz PackageFileSize: 911.9 KiB