Package: RNAsense Version: 1.21.0 Command: /Library/Frameworks/R.framework/Resources/bin/R CMD check --install=check:RNAsense.install-out.txt --library=/Library/Frameworks/R.framework/Resources/library --no-vignettes --timings RNAsense_1.21.0.tar.gz StartedAt: 2025-02-09 23:10:26 -0500 (Sun, 09 Feb 2025) EndedAt: 2025-02-09 23:23:42 -0500 (Sun, 09 Feb 2025) EllapsedTime: 795.7 seconds RetCode: 0 Status: WARNINGS CheckDir: RNAsense.Rcheck Warnings: 1