Package: RNAsense Version: 1.21.0 Command: /Library/Frameworks/R.framework/Resources/bin/R CMD INSTALL RNAsense StartedAt: 2025-02-09 15:11:22 -0500 (Sun, 09 Feb 2025) EndedAt: 2025-02-09 15:11:51 -0500 (Sun, 09 Feb 2025) EllapsedTime: 28.9 seconds RetCode: 0 Status: OK