Package: RNAsense Version: 1.21.0 Command: /home/biocbuild/bbs-3.21-bioc/R/bin/R CMD INSTALL RNAsense StartedAt: 2025-02-09 15:17:42 -0500 (Sun, 09 Feb 2025) EndedAt: 2025-02-09 15:18:04 -0500 (Sun, 09 Feb 2025) EllapsedTime: 21.7 seconds RetCode: 0 Status: OK