Package: RNAsense Version: 1.21.0 Command: E:\biocbuild\bbs-3.21-bioc\R\bin\R.exe CMD check --no-multiarch --install=check:RNAsense.install-out.txt --library=E:\biocbuild\bbs-3.21-bioc\R\library --no-vignettes --timings RNAsense_1.21.0.tar.gz StartedAt: 2025-02-10 04:48:00 -0500 (Mon, 10 Feb 2025) EndedAt: 2025-02-10 05:04:03 -0500 (Mon, 10 Feb 2025) EllapsedTime: 963.1 seconds RetCode: 0 Status: WARNINGS CheckDir: RNAsense.Rcheck Warnings: 1