Package: RNAseqCovarImpute Version: 1.5.0 Maintainer: Brennan Baker MaintainerEmail: brennanhilton at gmail.com git_url: https://git.bioconductor.org/packages/RNAseqCovarImpute git_branch: devel git_last_commit: f490cdd git_last_commit_date: 2024-10-29 11:24:42 -0500 (Tue, 29 Oct 2024)