Package: RNAseqCovarImpute Version: 1.5.0 Command: /home/biocbuild/R/R/bin/R CMD INSTALL RNAseqCovarImpute StartedAt: 2025-01-29 20:18:33 -0000 (Wed, 29 Jan 2025) EndedAt: 2025-01-29 20:18:46 -0000 (Wed, 29 Jan 2025) EllapsedTime: 12.8 seconds RetCode: 0 Status: OK