Package: RNAseqCovarImpute Version: 1.5.0 Command: /home/biocbuild/bbs-3.21-bioc/R/bin/R CMD INSTALL RNAseqCovarImpute StartedAt: 2025-02-09 15:12:03 -0500 (Sun, 09 Feb 2025) EndedAt: 2025-02-09 15:12:13 -0500 (Sun, 09 Feb 2025) EllapsedTime: 9.2 seconds RetCode: 0 Status: OK