Package: RNAseqCovarImpute Version: 1.5.0 Command: rm -rf RNAseqCovarImpute.buildbin-libdir && mkdir RNAseqCovarImpute.buildbin-libdir && E:\biocbuild\bbs-3.21-bioc\R\bin\R.exe CMD INSTALL --build --library=RNAseqCovarImpute.buildbin-libdir RNAseqCovarImpute_1.5.0.tar.gz StartedAt: 2025-02-10 08:34:52 -0500 (Mon, 10 Feb 2025) EndedAt: 2025-02-10 08:35:37 -0500 (Mon, 10 Feb 2025) EllapsedTime: 44.5 seconds RetCode: 0 Status: OK PackageFile: RNAseqCovarImpute_1.5.0.zip PackageFileSize: 809.5 KiB