Package: RNAseqCovarImpute Version: 1.5.0 Command: chmod a+r RNAseqCovarImpute -R && E:\biocbuild\bbs-3.21-bioc\R\bin\R.exe CMD build --keep-empty-dirs --no-resave-data RNAseqCovarImpute StartedAt: 2025-02-09 21:14:55 -0500 (Sun, 09 Feb 2025) EndedAt: 2025-02-09 21:16:28 -0500 (Sun, 09 Feb 2025) EllapsedTime: 93.4 seconds RetCode: 0 Status: OK PackageFile: RNAseqCovarImpute_1.5.0.tar.gz PackageFileSize: 768.5 KiB