Package: RNAseqCovarImpute Version: 1.5.0 Command: E:\biocbuild\bbs-3.21-bioc\R\bin\R.exe CMD INSTALL RNAseqCovarImpute StartedAt: 2025-02-09 15:57:35 -0500 (Sun, 09 Feb 2025) EndedAt: 2025-02-09 15:58:36 -0500 (Sun, 09 Feb 2025) EllapsedTime: 61.0 seconds RetCode: 0 Status: OK