Package: ROC Version: 1.83.0 Command: /home/biocbuild/R/R/bin/R CMD INSTALL ROC StartedAt: 2025-01-29 19:35:02 -0000 (Wed, 29 Jan 2025) EndedAt: 2025-01-29 19:35:21 -0000 (Wed, 29 Jan 2025) EllapsedTime: 18.3 seconds RetCode: 0 Status: OK