Package: ROC Version: 1.83.0 Command: /Library/Frameworks/R.framework/Resources/bin/R CMD build --keep-empty-dirs --no-resave-data ROC StartedAt: 2025-02-09 18:13:04 -0500 (Sun, 09 Feb 2025) EndedAt: 2025-02-09 18:13:12 -0500 (Sun, 09 Feb 2025) EllapsedTime: 8.0 seconds RetCode: 0 Status: OK PackageFile: ROC_1.83.0.tar.gz PackageFileSize: 251.1 KiB