Package: ROC Version: 1.83.0 Command: /Library/Frameworks/R.framework/Resources/bin/R CMD INSTALL ROC StartedAt: 2025-02-09 15:07:14 -0500 (Sun, 09 Feb 2025) EndedAt: 2025-02-09 15:07:44 -0500 (Sun, 09 Feb 2025) EllapsedTime: 29.5 seconds RetCode: 0 Status: OK