Package: ROC Version: 1.83.0 Command: /home/biocbuild/bbs-3.21-bioc/R/bin/R CMD INSTALL ROC StartedAt: 2025-02-12 15:06:31 -0500 (Wed, 12 Feb 2025) EndedAt: 2025-02-12 15:06:45 -0500 (Wed, 12 Feb 2025) EllapsedTime: 14.0 seconds RetCode: 0 Status: OK