Package: ROC Version: 1.83.0 Command: rm -rf ROC.buildbin-libdir && mkdir ROC.buildbin-libdir && E:\biocbuild\bbs-3.21-bioc\R\bin\R.exe CMD INSTALL --build --library=ROC.buildbin-libdir ROC_1.83.0.tar.gz StartedAt: 2025-02-10 08:35:13 -0500 (Mon, 10 Feb 2025) EndedAt: 2025-02-10 08:35:22 -0500 (Mon, 10 Feb 2025) EllapsedTime: 8.1 seconds RetCode: 0 Status: OK PackageFile: ROC_1.83.0.zip PackageFileSize: 278 KiB