Package: ROSeq Version: 1.19.0 Command: rm -rf ROSeq.buildbin-libdir && mkdir ROSeq.buildbin-libdir && /Users/biocbuild/BBS/utils/build-universal.sh ROSeq_1.19.0.tar.gz /Library/Frameworks/R.framework/Resources/bin/R ROSeq.buildbin-libdir StartedAt: 2025-02-09 22:28:34 -0500 (Sun, 09 Feb 2025) EndedAt: 2025-02-09 22:28:38 -0500 (Sun, 09 Feb 2025) EllapsedTime: 4.1 seconds RetCode: 0 Status: OK PackageFile: ROSeq_1.19.0.tgz PackageFileSize: 7.322 MiB