Package: ROSeq Version: 1.19.0 Command: /Library/Frameworks/R.framework/Resources/bin/R CMD check --install=check:ROSeq.install-out.txt --library=/Library/Frameworks/R.framework/Resources/library --no-vignettes --timings ROSeq_1.19.0.tar.gz StartedAt: 2025-02-09 21:03:09 -0500 (Sun, 09 Feb 2025) EndedAt: 2025-02-09 21:05:02 -0500 (Sun, 09 Feb 2025) EllapsedTime: 113.3 seconds RetCode: 0 Status: WARNINGS CheckDir: ROSeq.Rcheck Warnings: 1