Package: ROSeq Version: 1.19.0 Command: /home/biocbuild/R/R/bin/R CMD build --keep-empty-dirs --no-resave-data ROSeq StartedAt: 2025-01-29 01:50:36 -0000 (Wed, 29 Jan 2025) EndedAt: 2025-01-29 01:55:37 -0000 (Wed, 29 Jan 2025) EllapsedTime: 301.3 seconds RetCode: 0 Status: OK PackageFile: ROSeq_1.19.0.tar.gz PackageFileSize: 4.192 MiB