Package: ROSeq Version: 1.19.0 Command: /Library/Frameworks/R.framework/Resources/bin/R CMD INSTALL ROSeq StartedAt: 2025-02-09 15:07:45 -0500 (Sun, 09 Feb 2025) EndedAt: 2025-02-09 15:08:16 -0500 (Sun, 09 Feb 2025) EllapsedTime: 31.4 seconds RetCode: 0 Status: OK