Package: ROSeq Version: 1.19.0 Command: /home/biocbuild/bbs-3.21-bioc/R/bin/R CMD build --keep-empty-dirs --no-resave-data ROSeq StartedAt: 2025-02-09 19:00:25 -0500 (Sun, 09 Feb 2025) EndedAt: 2025-02-09 19:04:09 -0500 (Sun, 09 Feb 2025) EllapsedTime: 224.5 seconds RetCode: 0 Status: OK PackageFile: ROSeq_1.19.0.tar.gz PackageFileSize: 4.19 MiB