Package: ROSeq Version: 1.19.0 Command: rm -rf ROSeq.buildbin-libdir && mkdir ROSeq.buildbin-libdir && E:\biocbuild\bbs-3.21-bioc\R\bin\R.exe CMD INSTALL --build --library=ROSeq.buildbin-libdir ROSeq_1.19.0.tar.gz StartedAt: 2025-02-10 08:35:28 -0500 (Mon, 10 Feb 2025) EndedAt: 2025-02-10 08:35:43 -0500 (Mon, 10 Feb 2025) EllapsedTime: 15.2 seconds RetCode: 0 Status: OK PackageFile: ROSeq_1.19.0.zip PackageFileSize: 7.314 MiB