Package: ROSeq Version: 1.19.0 Command: chmod a+r ROSeq -R && E:\biocbuild\bbs-3.21-bioc\R\bin\R.exe CMD build --keep-empty-dirs --no-resave-data ROSeq StartedAt: 2025-02-03 21:30:17 -0500 (Mon, 03 Feb 2025) EndedAt: 2025-02-03 21:36:00 -0500 (Mon, 03 Feb 2025) EllapsedTime: 343.5 seconds RetCode: 0 Status: OK PackageFile: ROSeq_1.19.0.tar.gz PackageFileSize: 4.192 MiB