Package: ROSeq Version: 1.19.0 Command: E:\biocbuild\bbs-3.21-bioc\R\bin\R.exe CMD check --no-multiarch --install=check:ROSeq.install-out.txt --library=E:\biocbuild\bbs-3.21-bioc\R\library --no-vignettes --timings ROSeq_1.19.0.tar.gz StartedAt: 2025-02-04 05:18:23 -0500 (Tue, 04 Feb 2025) EndedAt: 2025-02-04 05:25:53 -0500 (Tue, 04 Feb 2025) EllapsedTime: 450.2 seconds RetCode: 0 Status: WARNINGS CheckDir: ROSeq.Rcheck Warnings: 1