Package: ROTS Version: 1.99.11 Command: /Library/Frameworks/R.framework/Resources/bin/R CMD check --install=check:ROTS.install-out.txt --library=/Library/Frameworks/R.framework/Resources/library --no-vignettes --timings ROTS_1.99.11.tar.gz StartedAt: 2025-02-09 21:03:53 -0500 (Sun, 09 Feb 2025) EndedAt: 2025-02-09 21:04:29 -0500 (Sun, 09 Feb 2025) EllapsedTime: 36.4 seconds RetCode: 0 Status: OK CheckDir: ROTS.Rcheck Warnings: 0