Package: ROTS Version: 1.99.11 Command: /Library/Frameworks/R.framework/Resources/bin/R CMD build --keep-empty-dirs --no-resave-data ROTS StartedAt: 2025-02-12 18:06:26 -0500 (Wed, 12 Feb 2025) EndedAt: 2025-02-12 18:06:58 -0500 (Wed, 12 Feb 2025) EllapsedTime: 32.0 seconds RetCode: 0 Status: OK PackageFile: ROTS_1.99.11.tar.gz PackageFileSize: 458.9 KiB