Package: ROTS Version: 1.99.11 Command: /Library/Frameworks/R.framework/Resources/bin/R CMD check --install=check:ROTS.install-out.txt --library=/Library/Frameworks/R.framework/Resources/library --no-vignettes --timings ROTS_1.99.11.tar.gz StartedAt: 2025-02-09 23:12:58 -0500 (Sun, 09 Feb 2025) EndedAt: 2025-02-09 23:14:26 -0500 (Sun, 09 Feb 2025) EllapsedTime: 88.1 seconds RetCode: 0 Status: OK CheckDir: ROTS.Rcheck Warnings: 0