Package: ROTS Version: 1.99.11 Command: /home/biocbuild/bbs-3.21-bioc/R/bin/R CMD build --keep-empty-dirs --no-resave-data ROTS StartedAt: 2025-02-09 19:00:31 -0500 (Sun, 09 Feb 2025) EndedAt: 2025-02-09 19:00:58 -0500 (Sun, 09 Feb 2025) EllapsedTime: 27.0 seconds RetCode: 0 Status: OK PackageFile: ROTS_1.99.11.tar.gz PackageFileSize: 459.1 KiB