Package: ROTS Version: 1.99.11 Command: /home/biocbuild/bbs-3.21-bioc/R/bin/R CMD check --install=check:ROTS.install-out.txt --library=/home/biocbuild/bbs-3.21-bioc/R/site-library --timings ROTS_1.99.11.tar.gz StartedAt: 2025-02-10 02:04:33 -0500 (Mon, 10 Feb 2025) EndedAt: 2025-02-10 02:05:54 -0500 (Mon, 10 Feb 2025) EllapsedTime: 81.1 seconds RetCode: 0 Status: OK CheckDir: ROTS.Rcheck Warnings: 0