Package: RSVSim Version: 1.47.0 Command: rm -rf RSVSim.buildbin-libdir && mkdir RSVSim.buildbin-libdir && /Users/biocbuild/BBS/utils/build-universal.sh RSVSim_1.47.0.tar.gz /Library/Frameworks/R.framework/Resources/bin/R RSVSim.buildbin-libdir StartedAt: 2025-02-09 22:28:47 -0500 (Sun, 09 Feb 2025) EndedAt: 2025-02-09 22:29:01 -0500 (Sun, 09 Feb 2025) EllapsedTime: 14.3 seconds RetCode: 0 Status: OK PackageFile: RSVSim_1.47.0.tgz PackageFileSize: 614.2 KiB