Package: RSVSim Version: 1.47.0 Command: /Library/Frameworks/R.framework/Resources/bin/R CMD check --install=check:RSVSim.install-out.txt --library=/Library/Frameworks/R.framework/Resources/library --no-vignettes --timings RSVSim_1.47.0.tar.gz StartedAt: 2025-02-09 21:05:06 -0500 (Sun, 09 Feb 2025) EndedAt: 2025-02-09 21:06:28 -0500 (Sun, 09 Feb 2025) EllapsedTime: 82.1 seconds RetCode: 0 Status: OK CheckDir: RSVSim.Rcheck Warnings: 0